BEGIN:VCALENDAR
VERSION:2.0
PRODID:-//Galloway Star Ranch - ECPv6.15.20//NONSGML v1.0//EN
CALSCALE:GREGORIAN
METHOD:PUBLISH
X-WR-CALNAME:Galloway Star Ranch
X-ORIGINAL-URL:https://galloway-star-ranch.de
X-WR-CALDESC:Veranstaltungen für Galloway Star Ranch
REFRESH-INTERVAL;VALUE=DURATION:PT1H
X-Robots-Tag:noindex
X-PUBLISHED-TTL:PT1H
BEGIN:VTIMEZONE
TZID:Europe/Berlin
BEGIN:DAYLIGHT
TZOFFSETFROM:+0100
TZOFFSETTO:+0200
TZNAME:CEST
DTSTART:20180325T010000
END:DAYLIGHT
BEGIN:STANDARD
TZOFFSETFROM:+0200
TZOFFSETTO:+0100
TZNAME:CET
DTSTART:20181028T010000
END:STANDARD
BEGIN:DAYLIGHT
TZOFFSETFROM:+0100
TZOFFSETTO:+0200
TZNAME:CEST
DTSTART:20190331T010000
END:DAYLIGHT
BEGIN:STANDARD
TZOFFSETFROM:+0200
TZOFFSETTO:+0100
TZNAME:CET
DTSTART:20191027T010000
END:STANDARD
BEGIN:DAYLIGHT
TZOFFSETFROM:+0100
TZOFFSETTO:+0200
TZNAME:CEST
DTSTART:20200329T010000
END:DAYLIGHT
BEGIN:STANDARD
TZOFFSETFROM:+0200
TZOFFSETTO:+0100
TZNAME:CET
DTSTART:20201025T010000
END:STANDARD
END:VTIMEZONE
BEGIN:VEVENT
DTSTART;VALUE=DATE:20191005
DTEND;VALUE=DATE:20191007
DTSTAMP:20260424T071216
CREATED:20190318T144659Z
LAST-MODIFIED:20190318T144659Z
UID:6162-1570233600-1570406399@galloway-star-ranch.de
SUMMARY:Reining mit Bundestrainer Nico Hörmann
DESCRIPTION:Der Bundestrainer Nico Hörmann versteht es wie kein anderer\, sich auf den Ausbildungsstand von Reiter und Pferd einzulassen und beide reiterlich voranzubringen. Anfänger und Fortgeschrittene können hier die einzelnen Manöver der Disziplin Reining intensiv erarbeiten und sich im Pattern-Reiten üben. \nNähere Informationen bei der Organisatorin Sandra Lamprecht\, Tel: 0174 1684634\, Email: clinicsandmore@gmail.com \n 
URL:https://galloway-star-ranch.de/veranstaltung/reining-mit-bundestrainer-nico-hoermann-3/
ATTACH;FMTTYPE=image/jpeg:https://galloway-star-ranch.de/wp-content/uploads/2017/07/DSC04552.jpg
END:VEVENT
END:VCALENDAR